BEGIN:VCALENDAR
VERSION:2.0
PRODID:-//Ensemble Renard - ECPv6.15.17//NONSGML v1.0//EN
CALSCALE:GREGORIAN
METHOD:PUBLISH
X-ORIGINAL-URL:https://ensemblerenard.co.uk
X-WR-CALDESC:Events for Ensemble Renard
REFRESH-INTERVAL;VALUE=DURATION:PT1H
X-Robots-Tag:noindex
X-PUBLISHED-TTL:PT1H
BEGIN:VTIMEZONE
TZID:UTC
BEGIN:STANDARD
TZOFFSETFROM:+0000
TZOFFSETTO:+0000
TZNAME:UTC
DTSTART:20250101T000000
END:STANDARD
END:VTIMEZONE
BEGIN:VEVENT
DTSTART;TZID=UTC:20260710T193000
DTEND;TZID=UTC:20260710T213000
DTSTAMP:20260421T152609
CREATED:20260410T124654Z
LAST-MODIFIED:20260410T124838Z
UID:1923-1783711800-1783719000@ensemblerenard.co.uk
SUMMARY:Llanfyllin Festival 2026
DESCRIPTION:Ensemble Renard make their 5th appearance at the Llanfyllin Festival.
URL:https://ensemblerenard.co.uk/event/llanfyllin-festival-2026/
LOCATION:St Myllin’s Church\, Llanfyllin\, SY22 5BL
ATTACH;FMTTYPE=image/png:https://ensemblerenard.co.uk/wp-content/uploads/2026/04/download.png
END:VEVENT
END:VCALENDAR