BEGIN:VCALENDAR
VERSION:2.0
PRODID:-//Ensemble Renard - ECPv6.15.17//NONSGML v1.0//EN
CALSCALE:GREGORIAN
METHOD:PUBLISH
X-WR-CALNAME:Ensemble Renard
X-ORIGINAL-URL:https://ensemblerenard.co.uk
X-WR-CALDESC:Events for Ensemble Renard
REFRESH-INTERVAL;VALUE=DURATION:PT1H
X-Robots-Tag:noindex
X-PUBLISHED-TTL:PT1H
BEGIN:VTIMEZONE
TZID:UTC
BEGIN:STANDARD
TZOFFSETFROM:+0000
TZOFFSETTO:+0000
TZNAME:UTC
DTSTART:20250101T000000
END:STANDARD
END:VTIMEZONE
BEGIN:VEVENT
DTSTART;TZID=UTC:20260611T130000
DTEND;TZID=UTC:20260611T141500
DTSTAMP:20260421T140325
CREATED:20260410T122843Z
LAST-MODIFIED:20260410T122843Z
UID:1909-1781182800-1781187300@ensemblerenard.co.uk
SUMMARY:Pinner Music Festival
DESCRIPTION:Join us for a lunchtime concert at Pinner Music Festival.\nProgramme: \nValerie Coleman \nUmoja \nSamuel Barber \nSummer Music \nCheryl Frances-Hoad \nBlue Cheese and Olive Oil \nWA Mozart (arr. Wolfgang Sebastien Meyer) \nAndante fur eine Walze in eine kleine Orgel\, K. 616 \nAmy Beach \nPastorale \nPavel Haas \nWind Quintet \nBela Bartok (arr. George Strivens) \nSix Dances in Bulgarian Rhythm from Mikrokosmos Vol. 6
URL:https://ensemblerenard.co.uk/event/pinner-music-festival/
LOCATION:Pinner Parish Church\, Pinner Parish Church\, Pinner\, Middlesex\, HA5 3AA\, United Kingdom
ATTACH;FMTTYPE=image/jpeg:https://ensemblerenard.co.uk/wp-content/uploads/2026/04/pinner.jpeg
END:VEVENT
BEGIN:VEVENT
DTSTART;TZID=UTC:20260612T130000
DTEND;TZID=UTC:20260612T140000
DTSTAMP:20260421T140325
CREATED:20260410T123857Z
LAST-MODIFIED:20260410T123857Z
UID:1918-1781269200-1781272800@ensemblerenard.co.uk
SUMMARY:St Martin-in-the-Fields
DESCRIPTION:Escape from the clamour of the city and join Ensemble Renard for a recital of music that captures the symbiotic nature of humanity’s relationship to the natural world. \nProgramme: \nJudith Weir Mountain Airs\nMozart Andante für eine Walze in eine Kleiner Orgel\, K. 616\nCheryl Frances-Hoad Blue Cheese and Olive Oil\nPavel Haas Wind Quintet\nGeorge Stevenson Les Machines de l’Île\nBartok arr. George Strivens Six Dances in Bulgarian Rhythm from Mikrokosmos Vol. 6
URL:https://ensemblerenard.co.uk/event/st-martin-in-the-fields/
LOCATION:St Martin-in-the-Fields\, Trafalgar Square\, London\, WC2N 4JJ\, United Kingdom
ATTACH;FMTTYPE=image/png:https://ensemblerenard.co.uk/wp-content/uploads/2026/04/1333-SMITF_logo_CMYK_A1poster.png
END:VEVENT
BEGIN:VEVENT
DTSTART;TZID=UTC:20260619T190000
DTEND;TZID=UTC:20260619T213000
DTSTAMP:20260421T140325
CREATED:20260415T162226Z
LAST-MODIFIED:20260415T162226Z
UID:1931-1781895600-1781904600@ensemblerenard.co.uk
SUMMARY:Bedford Park Festival
DESCRIPTION:Join us for a programme featuring works by Coleman\, Barber\, Beach\, Ligeti and Nielsen.
URL:https://ensemblerenard.co.uk/event/bedford-park-festival/
LOCATION:St Michael’s and All Angels\, Priory Ave\, London\, W4 1TX
ATTACH;FMTTYPE=image/png:https://ensemblerenard.co.uk/wp-content/uploads/2021/10/base_icon_white_background.png
END:VEVENT
END:VCALENDAR