BEGIN:VCALENDAR
VERSION:2.0
PRODID:-//Ensemble Renard - ECPv6.15.17//NONSGML v1.0//EN
CALSCALE:GREGORIAN
METHOD:PUBLISH
X-WR-CALNAME:Ensemble Renard
X-ORIGINAL-URL:https://ensemblerenard.co.uk
X-WR-CALDESC:Events for Ensemble Renard
REFRESH-INTERVAL;VALUE=DURATION:PT1H
X-Robots-Tag:noindex
X-PUBLISHED-TTL:PT1H
BEGIN:VTIMEZONE
TZID:UTC
BEGIN:STANDARD
TZOFFSETFROM:+0000
TZOFFSETTO:+0000
TZNAME:UTC
DTSTART:20250101T000000
END:STANDARD
END:VTIMEZONE
BEGIN:VEVENT
DTSTART;TZID=UTC:20260515T123000
DTEND;TZID=UTC:20260515T133000
DTSTAMP:20260421T124040
CREATED:20260301T140434Z
LAST-MODIFIED:20260301T140844Z
UID:1901-1778848200-1778851800@ensemblerenard.co.uk
SUMMARY:Newbury Spring Festival
DESCRIPTION:Ensemble Renard\, 2025 CMF Artists\, devote themselves to showcasing the breadth of colour the wind quintet is capable of. Their dedication to the genre has taken them to prestigious venues and festivals across the UK and abroad\, including return appearances at the Aldeburgh Festival\, Folkestone New Music\, and BBC Radio 3’s In Tune. \nIn this lunchtime recital they take the audience through a musical history from some of the earliest written music by 13th-century composer Pérotin\, arranged by one of the most important composers in recent history\, the late Oliver Knussen. This is followed by reimaginings of the music of Ravel’s much-loved Le Tombeau de Couperin\, and Bartók’s rhythmically charged Six Dances in Bulgarian Rhythm. \nNo exploration of the wind quintet could be complete without the most celebrated work in the genre – the rich and expansive Wind Quintet by Carl Nielsen. \nPerformers\nEllie Blamires flute\nFrancesca Cox oboe\nJames Gilbert clarinet\nGeorge Strivens horn\nPatrick Bolton bassoon \nProgramme\nPérotin arr. Oliver Knussen Alleluya Nativitas\nMaurice Ravel arr. Mason Jones Le Tombeau de Couperin\nBéla Bartók arr. George Strivens Six Dances in Bulgarian Rhythm\nCarl Nielsen Wind Quintet Op.43 \nSponsored by The Headley Trust
URL:https://ensemblerenard.co.uk/event/newbury-spring-festival/
LOCATION:Corn Exchange Newbury\, Market Place\, Newbury\, Berkshire\, RG14 5BD\, United Kingdom
ATTACH;FMTTYPE=image/png:https://ensemblerenard.co.uk/wp-content/uploads/2026/03/IMG_0244.png
ORGANIZER;CN="Newbury Spring Festival":MAILTO:enquiries@newburyspringfestival
END:VEVENT
END:VCALENDAR