BEGIN:VCALENDAR
VERSION:2.0
PRODID:-//Ensemble Renard - ECPv6.15.17//NONSGML v1.0//EN
CALSCALE:GREGORIAN
METHOD:PUBLISH
X-WR-CALNAME:Ensemble Renard
X-ORIGINAL-URL:https://ensemblerenard.co.uk
X-WR-CALDESC:Events for Ensemble Renard
REFRESH-INTERVAL;VALUE=DURATION:PT1H
X-Robots-Tag:noindex
X-PUBLISHED-TTL:PT1H
BEGIN:VTIMEZONE
TZID:UTC
BEGIN:STANDARD
TZOFFSETFROM:+0000
TZOFFSETTO:+0000
TZNAME:UTC
DTSTART:20200101T000000
END:STANDARD
END:VTIMEZONE
BEGIN:VEVENT
DTSTART;TZID=UTC:20220518T190000
DTEND;TZID=UTC:20220518T203000
DTSTAMP:20260422T024107
CREATED:20220226T150547Z
LAST-MODIFIED:20220316T111432Z
UID:1056-1652900400-1652905800@ensemblerenard.co.uk
SUMMARY:In the Room - with Ensemble Renard
DESCRIPTION:In the Room brings together Ensemble Renard and the composer collective Stomping Ground for an immersive multi-sensory experience at Pushkin House.\n\nPerformed by Ensemble Renard:\n  \nIsabella Leonarda\nSonata No. 3\, Sonata No. 9 \nIsabella Gellis\n[new work for wind quintet and piano] \nJon Mayse\nThe Invention of Oil \nGeoffrey King\nRare Phases of Flow \nDavid Nunn\nlockwood \n  \n‘Stomping Ground are a group of composers who believe that going to concerts should be a multi-sensory experience. Through stagecraft\, eclectic programming\, and excellent musicianship\, we want to make contemporary classical concerts for everyone.’
URL:https://ensemblerenard.co.uk/event/in-the-room/
LOCATION:Pushkin House\, London
ATTACH;FMTTYPE=image/jpeg:https://ensemblerenard.co.uk/wp-content/uploads/2022/01/H25C7703-scaled.jpg
END:VEVENT
BEGIN:VEVENT
DTSTART;TZID=UTC:20220512T183000
DTEND;TZID=UTC:20220512T193000
DTSTAMP:20260422T024107
CREATED:20220224T145757Z
LAST-MODIFIED:20220329T142246Z
UID:1024-1652380200-1652383800@ensemblerenard.co.uk
SUMMARY:Composers' Project: Royal Academy of Music
DESCRIPTION:COMPOSERS’ PROJECT: ENSEMBLE RENARD\n\n\n\nSpace: David Josefowitz Recital Hall\n\n\nVenue: Royal Academy of Music\n\n\n\n\n\nA concert of new works written by composition students for chamber music fellows Ensemble Renard.
URL:https://ensemblerenard.co.uk/event/composers-project-royal-academy-of-music/
LOCATION:Royal Academy of Music\, Marylebone Road\, London\, NW1 5HT
ATTACH;FMTTYPE=image/jpeg:https://ensemblerenard.co.uk/wp-content/uploads/2022/02/WhatsApp-Image-2022-02-26-at-15.41.14.jpeg
END:VEVENT
BEGIN:VEVENT
DTSTART;TZID=UTC:20220325T150000
DTEND;TZID=UTC:20220325T170000
DTSTAMP:20260422T024107
CREATED:20220224T151049Z
LAST-MODIFIED:20220226T145457Z
UID:1033-1648220400-1648227600@ensemblerenard.co.uk
SUMMARY:Music for the Moment - Wigmore Hall
DESCRIPTION:Join musicians from the Royal Academy of Music as they present an informal concert for people living with dementia and their friends\, family and carers. \n\nYou are warmly invited to join us for tea and coffee from 2:30PM.
URL:https://ensemblerenard.co.uk/event/music-for-the-moment-wigmore-hall/
LOCATION:Wigmore Hall
ATTACH;FMTTYPE=image/jpeg:https://ensemblerenard.co.uk/wp-content/uploads/2022/01/H25C7793-scaled.jpg
END:VEVENT
BEGIN:VEVENT
DTSTART;TZID=UTC:20220321T153000
DTEND;TZID=UTC:20220321T160000
DTSTAMP:20260422T024107
CREATED:20220224T150824Z
LAST-MODIFIED:20220306T201510Z
UID:1031-1647876600-1647878400@ensemblerenard.co.uk
SUMMARY:Royal Over-Seas League Semi-Final: Mixed Ensembles Prize
DESCRIPTION:Ensemble Renard will perform in the Royal Over-Seas League Semi-Final playing: \nThea Musgrave: Wind Quintet \nLe Tombeau de Couperin\, arr Hans Abrahamsen: Movements 3 Minuet and 4 Rigaudon
URL:https://ensemblerenard.co.uk/event/royal-over-seas-league-semi-final/
ATTACH;FMTTYPE=image/jpeg:https://ensemblerenard.co.uk/wp-content/uploads/2022/02/WhatsApp-Image-2022-02-26-at-15.39.50.jpeg
END:VEVENT
BEGIN:VEVENT
DTSTART;TZID=UTC:20220215T130000
DTEND;TZID=UTC:20220215T140000
DTSTAMP:20260422T024107
CREATED:20220104T202022Z
LAST-MODIFIED:20220104T211603Z
UID:920-1644930000-1644933600@ensemblerenard.co.uk
SUMMARY:Piano and Winds
DESCRIPTION:Ensemble Renard are joined by pianists Harry Rylance and Ignas Maknickas\, and mezzo-soprano Mia Serracino-Inglott in a programme of music for piano and winds. \n  \nProgramme: \nMozart Quintet in E flat for piano and winds\, K 452\nJudith Weir Airs from Another Planet\,\nRavel arr George Strivens Shéhérazade (world premiere)
URL:https://ensemblerenard.co.uk/event/piano-and-winds/
LOCATION:Royal Academy of Music\, Marylebone Road\, London\, NW1 5HT
END:VEVENT
BEGIN:VEVENT
DTSTART;TZID=UTC:20211116T130000
DTEND;TZID=UTC:20211116T140000
DTSTAMP:20260422T024107
CREATED:20211025T134207Z
LAST-MODIFIED:20211025T141442Z
UID:834-1637067600-1637071200@ensemblerenard.co.uk
SUMMARY:Royal Academy of Music Concert Series - Nordic Landscapes
DESCRIPTION:A programme featuring works by Anders Hillborg\, Hans Abrahamsen\, Marie Samuelsson and Carl Nielsen.
URL:https://ensemblerenard.co.uk/event/royal-academy-of-music-concert-series-nordic-landscapes/
LOCATION:Royal Academy of Music\, Marylebone Road\, London\, NW1 5HT
END:VEVENT
BEGIN:VEVENT
DTSTART;TZID=UTC:20211109T130000
DTEND;TZID=UTC:20211109T140000
DTSTAMP:20260422T024107
CREATED:20211025T140904Z
LAST-MODIFIED:20211025T140904Z
UID:853-1636462800-1636466400@ensemblerenard.co.uk
SUMMARY:Royal Academy of Music Chamber Music Festival - Games
DESCRIPTION:Watch us perform György Ligeti’s ‘Sechs Bagatellen’ as part of the Royal Academy of Music’s Chamber Music Festival 2021.\nVenue: Duke’s Hall\, Royal Academy of Music
URL:https://ensemblerenard.co.uk/event/royal-academy-of-music-chamber-music-festival-games/
LOCATION:Royal Academy of Music\, Marylebone Road\, London\, NW1 5HT
END:VEVENT
END:VCALENDAR