BEGIN:VCALENDAR
VERSION:2.0
PRODID:-//Ensemble Renard - ECPv6.15.17//NONSGML v1.0//EN
CALSCALE:GREGORIAN
METHOD:PUBLISH
X-WR-CALNAME:Ensemble Renard
X-ORIGINAL-URL:https://ensemblerenard.co.uk
X-WR-CALDESC:Events for Ensemble Renard
REFRESH-INTERVAL;VALUE=DURATION:PT1H
X-Robots-Tag:noindex
X-PUBLISHED-TTL:PT1H
BEGIN:VTIMEZONE
TZID:UTC
BEGIN:STANDARD
TZOFFSETFROM:+0000
TZOFFSETTO:+0000
TZNAME:UTC
DTSTART:20210101T000000
END:STANDARD
END:VTIMEZONE
BEGIN:VEVENT
DTSTART;TZID=UTC:20241026T193000
DTEND;TZID=UTC:20241026T213000
DTSTAMP:20260421T202636
CREATED:20240910T152005Z
LAST-MODIFIED:20240910T152507Z
UID:1628-1729971000-1729978200@ensemblerenard.co.uk
SUMMARY:Amersham Concert Club
DESCRIPTION:Valerie Coleman – Umoja \nSamuel Barber – Summer Music \nAmy Beach – Pastorale \nPaul Taffanel – Wind Quintet in G \n-Interval- \nGyörgy Ligeti – Six Bagatelles \nCarl Nielsen – Wind Quintet Op. 43 \nThis recital is made possible by the generous support of the Countess of Munster Musical Trust
URL:https://ensemblerenard.co.uk/event/amersham-concert-club/
LOCATION:Amersham Free Church\, Woodside Road\, Amersham\, Buckinghamshire\, HP6 6AJ\, United Kingdom
ATTACH;FMTTYPE=image/png:https://ensemblerenard.co.uk/wp-content/uploads/2024/09/IMG_0143.png
ORGANIZER;CN="Amersham Concert Club":MAILTO:mailto:chair@amershamconcerts.org.uk
END:VEVENT
BEGIN:VEVENT
DTSTART;TZID=UTC:20241020T160000
DTEND;TZID=UTC:20241020T180000
DTSTAMP:20260421T202636
CREATED:20240910T145643Z
LAST-MODIFIED:20240910T152542Z
UID:1623-1729440000-1729447200@ensemblerenard.co.uk
SUMMARY:Stour Valley Arts and Music
DESCRIPTION:Valerie Coleman – Umoja \nSamuel Barber – Summer Music \nAmy Beach – Pastorale \nPaul Taffanel – Wind Quintet in G \n-Interval- \nGyörgy Ligeti – Six Bagatelles \nCarl Nielsen – Wind Quintet Op. 43 \nThis recital is made possible by the generous support of the Countess of Munster Musical Trust
URL:https://ensemblerenard.co.uk/event/stour-valley-arts-and-music/
LOCATION:St Mary’s Church\, Stratford St Mary\, Colchester\, Suffolk\, CO7 6LS\, United Kingdom
ATTACH;FMTTYPE=image/png:https://ensemblerenard.co.uk/wp-content/uploads/2024/09/IMG_6097.png
ORGANIZER;CN="Stour Valley Arts and Music":MAILTO:info@svam.org.uk
END:VEVENT
BEGIN:VEVENT
DTSTART;TZID=UTC:20241002T193000
DTEND;TZID=UTC:20241002T213000
DTSTAMP:20260421T202636
CREATED:20240910T145045Z
LAST-MODIFIED:20240910T152242Z
UID:1619-1727897400-1727904600@ensemblerenard.co.uk
SUMMARY:Bideford Music Club
DESCRIPTION:Valerie Coleman – Umoja \nSamuel Barber – Summer Music \nAmy Beach – Pastorale \nPaul Taffanel – Wind Quintet in G \n-Interval- \nGyörgy Ligeti – Six Bagatelles \nCarl Nielsen – Wind Quintet Op. 43
URL:https://ensemblerenard.co.uk/event/bideford-music-club/
LOCATION:St Mary’s Church\, Church Walk\, Bideford\, Devon\, EX39 2BP\, United Kingdom
ATTACH;FMTTYPE=image/png:https://ensemblerenard.co.uk/wp-content/uploads/2024/09/IMG_6097.png
ORGANIZER;CN="Bideford Music Club":MAILTO:bidefordmusicclub.org@gmail.com
END:VEVENT
BEGIN:VEVENT
DTSTART;TZID=UTC:20240914T193000
DTEND;TZID=UTC:20240914T213000
DTSTAMP:20260421T202636
CREATED:20240910T144513Z
LAST-MODIFIED:20240910T144513Z
UID:1614-1726342200-1726349400@ensemblerenard.co.uk
SUMMARY:Leighton Buzzard Music
DESCRIPTION:Valerie Coleman – Umoja \nSamuel Barber – Summer Music \nAmy Beach – Pastorale \nPaul Taffanel – Wind Quintet in G \n-Interval- \nGyörgy Ligeti – Six Bagatelles \nCarl Nielsen – Wind Quintet Op. 43
URL:https://ensemblerenard.co.uk/event/leighton-buzzard-music/
LOCATION:St Barnabas’ Church\, Waterloo Road\, Linslade\, Leighton Buzzart\, Bedfordshire\, LU7 2NR\, United Kingdom
ATTACH;FMTTYPE=image/png:https://ensemblerenard.co.uk/wp-content/uploads/2024/09/IMG_0142.png
END:VEVENT
BEGIN:VEVENT
DTSTART;TZID=UTC:20240711T193000
DTEND;TZID=UTC:20240711T213000
DTSTAMP:20260421T202636
CREATED:20231116T133831Z
LAST-MODIFIED:20231116T133831Z
UID:1492-1720726200-1720733400@ensemblerenard.co.uk
SUMMARY:Borders Music and Arts Society
DESCRIPTION:For the third season running\, Ensemble Renard return to Scotland to perform an evening recital at the Borders Music and Arts Society. This recital has been made possible by the generous support of the Countess of Munster Musical Trust. \nProgramme TBC
URL:https://ensemblerenard.co.uk/event/borders-music-and-arts-society/
LOCATION:Mellerstain House\, Mellerstain House\, Gordon\, Scottish Borders\, TD3 6LG\, United Kingdom
ATTACH;FMTTYPE=image/jpeg:https://ensemblerenard.co.uk/wp-content/uploads/2022/01/H25C7703-scaled.jpg
END:VEVENT
BEGIN:VEVENT
DTSTART;TZID=UTC:20240710T140000
DTEND;TZID=UTC:20240710T150000
DTSTAMP:20260421T202636
CREATED:20231116T133122Z
LAST-MODIFIED:20231116T133122Z
UID:1488-1720620000-1720623600@ensemblerenard.co.uk
SUMMARY:Harris Music
DESCRIPTION:Ensemble Renard return to the north of England to perform an afternoon recital for Harris Music in Preston at St. George’s Church. \nAmy Beach – Pastorale \nAnton Reicha – Wind Quintet in Eb Op. 88 No. 2 \nJudith Weir – Mountain Airs \nPaul Taffanel – Wind Quintet \nValerie Coleman – Umoja
URL:https://ensemblerenard.co.uk/event/harris-music/
LOCATION:St George’s Church\, George’s Road\, Preston\, PR1 2NP\, United Kingdom
ATTACH;FMTTYPE=image/jpeg:https://ensemblerenard.co.uk/wp-content/uploads/2022/01/H25C7703-scaled.jpg
END:VEVENT
BEGIN:VEVENT
DTSTART;TZID=UTC:20240705T193000
DTEND;TZID=UTC:20240705T213000
DTSTAMP:20260421T202636
CREATED:20231116T132035Z
LAST-MODIFIED:20231116T132359Z
UID:1486-1720207800-1720215000@ensemblerenard.co.uk
SUMMARY:Llanfyllin Music Festival
DESCRIPTION:Ensemble Renard make a return to Llanfyllin Music Festival where they perform an evening recital at St Myllin’s Church.
URL:https://ensemblerenard.co.uk/event/llanfyllin-music-festival-3/
LOCATION:St Myllin’s Church\, Llanfyllin SY22 5BL
ATTACH;FMTTYPE=image/png:https://ensemblerenard.co.uk/wp-content/uploads/2022/04/Screenshot-2022-04-21-at-19.37.14.png
END:VEVENT
BEGIN:VEVENT
DTSTART;TZID=UTC:20240417T193000
DTEND;TZID=UTC:20240417T213000
DTSTAMP:20260421T202636
CREATED:20230620T105730Z
LAST-MODIFIED:20230620T105730Z
UID:1422-1713382200-1713389400@ensemblerenard.co.uk
SUMMARY:Clitheroe Concerts Society
DESCRIPTION:Programme TBC
URL:https://ensemblerenard.co.uk/event/clitheroe-concerts-society/
LOCATION:Lecture Theatre at Clitheroe Royal Grammar School Sixth Form Centre\, York Street\, BB7 2DJ\, Lecture Theatre at Clitheroe Royal Grammar School Sixth Form Centre\, York Street\, BB7 2DJ
ATTACH;FMTTYPE=image/jpeg:https://ensemblerenard.co.uk/wp-content/uploads/2023/06/IMG_0232.jpeg
END:VEVENT
BEGIN:VEVENT
DTSTART;TZID=UTC:20240329T160000
DTEND;TZID=UTC:20240329T180000
DTSTAMP:20260421T202636
CREATED:20231116T131357Z
LAST-MODIFIED:20231116T131650Z
UID:1482-1711728000-1711735200@ensemblerenard.co.uk
SUMMARY:Chamber Futures: Finale
DESCRIPTION:For a second year running\, Ensemble Renard have the privilege of being Britten-Pears Young Artists. \nThis concert is an opportunity to hear the culmination of a week of intensive coaching and masterclasses for young ensembles exploring contemporary chamber repertoire. \nWorld-renowned Canadian string quartet\, the Bozzini Quartet\, have spent the week tutoring four ambitious young chamber ensembles who are passionate about contemporary repertoire. \nThis is an opportunity to hear the results of the intensive work they’ve undertaken on a variety of pieces. The performance includes four new works composed by Britten Pears Young Artist alumni specially for the ensembles. \n 
URL:https://ensemblerenard.co.uk/event/chamber-futures-finale/
LOCATION:Britten Studio\, Snape Maltings
ATTACH;FMTTYPE=image/png:https://ensemblerenard.co.uk/wp-content/uploads/2023/01/Bpyap.png
END:VEVENT
BEGIN:VEVENT
DTSTART;TZID=UTC:20231119T150000
DTEND;TZID=UTC:20231119T170000
DTSTAMP:20260421T202636
CREATED:20230620T105119Z
LAST-MODIFIED:20231020T095015Z
UID:1415-1700406000-1700413200@ensemblerenard.co.uk
SUMMARY:Canterbury Music Club
DESCRIPTION:Ensemble Renard make their debut at Canterbury Music Club with a quintessentially varied programme of quintet classics by Nielsen and Françaix alongside a rarely performed work by Holst and music by Bartók arranged especially for the ensemble. \nMalcolm Arnold – Three Shanties for Wind Quintet \nBéla Bartók arr. George Strivens – Six Dances in Bulgarian Rhythm \nJean Françaix – Wind Quintet No. 1 \n–Interval- \nValerie Coleman – Umoja \nImogen Holst – Suite for Wind Quartet \nMalcolm Arnold – Fantasy for Solo Horn Op. 88 \nCarl Nielsen – Wind Quintet Op. 43 \n 
URL:https://ensemblerenard.co.uk/event/canterbury-music-club/
LOCATION:Colyer-Fergusson Hall\, University of Kent\, Canterbury\, CT2 7NB\, Coyler-Fergusson Hall\, University of Kent\, Canterbury\, CT2 7NB
ATTACH;FMTTYPE=image/jpeg:https://ensemblerenard.co.uk/wp-content/uploads/2023/06/IMG_0230.jpeg
END:VEVENT
BEGIN:VEVENT
DTSTART;TZID=UTC:20231107T180000
DTEND;TZID=UTC:20231107T190000
DTSTAMP:20260421T202636
CREATED:20230913T162807Z
LAST-MODIFIED:20231020T095459Z
UID:1432-1699380000-1699383600@ensemblerenard.co.uk
SUMMARY:Stoller Hall - Rush Hour Concerts
DESCRIPTION:Ensemble Renard embarks on a short trip around the world with distinctive music from five countries. Join us for dances from Bulgaria\, chaotic Swedish grooves\, pastoral English countryside\, crazy (yet charming) French virtuosity and Blues from the Deep South. This recital is the culmination of their time as Stoller Hall Emerging Artists. \n\nBéla Bartók arr. George Strivens – Six Dances in Bulgarian Rhythm \nAnders Hillborg – Six Pieces for Wind Quintet \n\n\nImogen Holst – Suite for Wind Quartet \nJean Françaix – Wind Quintet No. 1 \nValerie Coleman – Red Clay and Mississippi Delta
URL:https://ensemblerenard.co.uk/event/stoller-hall-rush-hour-concerts/
LOCATION:The Stoller Hall\, Hunts Bank\, Manchester\, M3 1DA\, United Kingdom
ATTACH;FMTTYPE=image/jpeg:https://ensemblerenard.co.uk/wp-content/uploads/2023/09/TSH-CMYK-red-black-white-scaled.jpeg
END:VEVENT
BEGIN:VEVENT
DTSTART;TZID=UTC:20230727T200000
DTEND;TZID=UTC:20230727T210000
DTSTAMP:20260421T202636
CREATED:20230203T104732Z
LAST-MODIFIED:20230620T105355Z
UID:1376-1690488000-1690491600@ensemblerenard.co.uk
SUMMARY:Marlborough College Summer School Recital
DESCRIPTION:Ensemble Renard will return to Marlborough where they will play a short evening recital at Marlborough College as part of the Summer School Recital Series \nProgramme TBC
URL:https://ensemblerenard.co.uk/event/marlborough-college-summer-school-recital/
LOCATION:Marlborough College\, Bath Road\, Marlborough\, Wiltshire\, SN8 1PA\, United Kingdom
ATTACH;FMTTYPE=image/jpeg:https://ensemblerenard.co.uk/wp-content/uploads/2023/02/IMG_0231.jpeg
END:VEVENT
BEGIN:VEVENT
DTSTART;TZID=UTC:20230714T193000
DTEND;TZID=UTC:20230714T213000
DTSTAMP:20260421T202636
CREATED:20230613T160912Z
LAST-MODIFIED:20230613T160959Z
UID:1408-1689363000-1689370200@ensemblerenard.co.uk
SUMMARY:Llanfyllin Music Festival
DESCRIPTION:Ensemble Renard return to Llanfyllin music festival to present a programme of characteristically varied repertoire\, included the rarely heard Suite for Wind Quartet by Imogen Holst\, and arrangements of Mozart and Mendelssohn. \nWolfgang Amadeus Mozart arr. David Walter – Serenade No. 12 in C minor \nAmy Beach – Pastorale \nFelix Mendelssohn arr. George Strivens – Lieder ohne Worte Op. 19 \n–Interval– \nValerie Coleman – Umoja \nImogen Holst – Suite for Wind Quartet \nCarl Nielsen – Wind Quintet Op. 43 \n  \n  \n 
URL:https://ensemblerenard.co.uk/event/llanfyllin-music-festival-2/
LOCATION:St Myllin’s Church\, Llanfyllin SY22 5BL
ATTACH;FMTTYPE=image/png:https://ensemblerenard.co.uk/wp-content/uploads/2022/04/Screenshot-2022-04-21-at-19.37.14.png
END:VEVENT
BEGIN:VEVENT
DTSTART;TZID=UTC:20230713T193000
DTEND;TZID=UTC:20230713T213000
DTSTAMP:20260421T202636
CREATED:20230613T161705Z
LAST-MODIFIED:20230613T161705Z
UID:1411-1689276600-1689283800@ensemblerenard.co.uk
SUMMARY:Llanfyllin Music Festival - Cabaret Performance
DESCRIPTION:As part of their return to Llanfyllin Music Festival\, Ensemble Renard will perform two sets of repertoire in the more laidback setting of the Llanfyllin Workhouse. You can enjoy a drink and some snacks at the table as the Ensemble will perform a selection of works for quintet alongside some solo works. \nProgramme to include: \nGeorge Gershwin arr. Bill Holcombe – Selections from “Porgy and Bess” \nValerie Coleman – Red Clay and Mississippi Delta \nMalcome Arnold – Sea Shanties \nJean-Michel Damase – Dix-sept variations \nAstor Piazzolla – Libertango
URL:https://ensemblerenard.co.uk/event/llanfyllin-music-festival-cabaret-performance/
LOCATION:Llanfyllin Workhouse\, A490\, Llanfyllin\, Wales\, SY22 5LD\, United Kingdom
ATTACH;FMTTYPE=image/png:https://ensemblerenard.co.uk/wp-content/uploads/2022/04/Screenshot-2022-04-21-at-19.37.14.png
END:VEVENT
BEGIN:VEVENT
DTSTART;TZID=UTC:20230619T150000
DTEND;TZID=UTC:20230619T150000
DTSTAMP:20260421T202636
CREATED:20221229T162338Z
LAST-MODIFIED:20230110T134524Z
UID:1335-1687186800-1687186800@ensemblerenard.co.uk
SUMMARY:Aldeburgh Festival 2023
DESCRIPTION:An inventive programme of wind quintets\, including Bartók\, Schumann\, Ligeti and Hans Abrahamsen.The programme opens with three piano works arranged for wind quintet. The first\, Six Bagatelles\, is Ligeti‘s own arrangement of movements from his colourful Musica ricercata for solo piano. Bartók‘s Six Dances in Bulgarian Rhythm are played in a brand-new arrangement by George Strivens.Schumann‘s Kinderszenen was arranged by Ligeti’s pupil Hans Abrahamsen\, whose ‘Walden’ quintet is inspired by the American poet Henry David Thoreau’s novel about living in the woods.\n\n\nLigeti: Six Bagatelles (13’)\nBartók (arr. George Strivens): Six Dances in Bulgarian Rhythm from Mikrokosmos (world premiere of this arrangement) (10’)\nR. Schumann (arr. Hans Abrahamsen): Kinderszenen\, Op.15 (10’)\nHans Abrahamsen: Wind Quintet No.2 ‘Walden’ (12’)\nLigeti: Ten Pieces (15’)
URL:https://ensemblerenard.co.uk/event/aldeburgh-festival-2023/
LOCATION:Britten Studio\, Snape Maltings
ATTACH;FMTTYPE=image/jpeg:https://ensemblerenard.co.uk/wp-content/uploads/2022/12/54A65BCE-B602-40FD-B58F-AD6B194404AD.jpeg
END:VEVENT
BEGIN:VEVENT
DTSTART;TZID=UTC:20230602T130000
DTEND;TZID=UTC:20230602T140000
DTSTAMP:20260421T202636
CREATED:20230203T103632Z
LAST-MODIFIED:20230203T103632Z
UID:1371-1685710800-1685714400@ensemblerenard.co.uk
SUMMARY:Romsey Chamber Music Festival
DESCRIPTION:Ensemble Renard return to Romsey Chamber Music Festival to present a lunchtime recital at the Abbey United Reformed Church. \nProgramme \nMaurice Ravel arr. Hans Abrahamsen – Le Tombeau de Couperin \nRosy Wertheim – Trio for Flute\, Clarinet\, and Bassoon \nJean Francaix – Wind Quintet No. 1
URL:https://ensemblerenard.co.uk/event/romsey-chamber-music-festival-2/
LOCATION:Abbey United Reformed Church\, Market Place\, Romsey\, Hampshire\, SO51 8EL\, United Kingdom
ORGANIZER;CN="Romsey Chamber Music Festival":MAILTO:mailto:contact@romseychambermusic.com
END:VEVENT
BEGIN:VEVENT
DTSTART;TZID=UTC:20230511T130500
DTEND;TZID=UTC:20230511T140500
DTSTAMP:20260421T202636
CREATED:20221217T183454Z
LAST-MODIFIED:20221217T183901Z
UID:1311-1683810300-1683813900@ensemblerenard.co.uk
SUMMARY:Chipping Campden Music Festival 2023
DESCRIPTION:
URL:https://ensemblerenard.co.uk/event/chipping-campden-music-festival-2023/
ATTACH;FMTTYPE=image/svg+xml:https://ensemblerenard.co.uk/wp-content/uploads/2022/12/MusicFestivalChippingCampden_logo.svg
END:VEVENT
BEGIN:VEVENT
DTSTART;TZID=UTC:20230413T193000
DTEND;TZID=UTC:20230413T213000
DTSTAMP:20260421T202636
CREATED:20221006T164946Z
LAST-MODIFIED:20221010T124729Z
UID:1266-1681414200-1681421400@ensemblerenard.co.uk
SUMMARY:Folkestone New Music
DESCRIPTION:Co-curated with John Woolrich\, Ensemble Renard are joined by Luke English for a recital of 20th century wind chamber music. \nHarrison Birtwistle – Refrains and Choruses \nPhillip Cashian – Silent Steps \nGyörgy Ligeti – Six Bagatelles \n-Interval- \nJohn Woolrich – The Iron Cockerel Sings \nHans Abrahamsen – Wind Quintet No. 2\, “Walden” \nLeos Janácek – Mladí \nEnsemble Renard  \nLuke English\, bass clarinet \n 
URL:https://ensemblerenard.co.uk/event/folkestone-new-music/
LOCATION:St. Eanswythe’s Church\, Church Street\, Folkestone\, Kent\, CT20 1SW\, United Kingdom
ATTACH;FMTTYPE=image/jpeg:https://ensemblerenard.co.uk/wp-content/uploads/2022/10/18D3403B-A957-4FE1-93DF-57A6FD134046.jpeg
END:VEVENT
BEGIN:VEVENT
DTSTART;TZID=UTC:20230212T143000
DTEND;TZID=UTC:20230212T143000
DTSTAMP:20260421T202636
CREATED:20230110T134125Z
LAST-MODIFIED:20230110T134608Z
UID:1341-1676212200-1676212200@ensemblerenard.co.uk
SUMMARY:Britten Pears Arts - End of Course Concert
DESCRIPTION:Ensemble Renard perform Poulenc’s ‘Sextuor for Winds and Piano’ alongside pianist Tom Poster\, in the culmination a week of intensive tuition\, masterclasses and mentoring for chamber ensembles as part of the Britten Pears Young Artist Programme. \nSelected Repertoire: \nMozart: String Quintet No.4 in G Minor k.516 (featuring Isabelle van Keulen and Britten Pears Young Artists)\nArthur Bliss: Oboe Quintet (featuring Nicholas Daniel and Britten Pears Young Artists)\nMartinu: Quartet for Oboe\, Violin\, Cello and Piano (featuring Nicholas Daniel and Britten Pears Young Artists)\nPoulenc: Sextuor for Winds and Piano (featuring Tom Poster and Britten Pears Young Artists)\nBritten arr. Joseph Phibbs: ‘Frolicsome Finale’ from Simple Symphony (new arrangement commissioned by Britten Pears Arts featuring all artists) – World Premiere
URL:https://ensemblerenard.co.uk/event/britten-pears-arts-end-of-course-concert/
LOCATION:Britten Studio\, Snape Maltings
ATTACH;FMTTYPE=image/png:https://ensemblerenard.co.uk/wp-content/uploads/2023/01/Bpyap.png
END:VEVENT
BEGIN:VEVENT
DTSTART;TZID=UTC:20230205T150000
DTEND;TZID=UTC:20230205T170000
DTSTAMP:20260421T202636
CREATED:20221217T181817Z
LAST-MODIFIED:20230123T130744Z
UID:1306-1675609200-1675616400@ensemblerenard.co.uk
SUMMARY:Newton Stewart & District Music Club
DESCRIPTION:Ensemble Renard present an evening recital at County Buildings – Wigtown\, with the Newton Stewart & District Music Club. \nProgramme \nMaurice Ravel arr. Hans Abrahamsen – Le Tombeau de Couperin \nThea Musgrave – Wind Quintet \nFelix Mendelssohn arr. George Strivens – 5 Lieder ohne Worte \n-Interval- \nJames MacMillan – Untold \nCarl Nielsen – Wind Quintet Op. 43 \nValerie Coleman – Red Clay & Mississippi Delta \nThis concert has been made possible by the generous support of the Tunnell Trust
URL:https://ensemblerenard.co.uk/event/newton-stewart-district-music-club/
LOCATION:County Buildings\, Wigtown\, Newton Stewart\, DG8 9JH
END:VEVENT
BEGIN:VEVENT
DTSTART;TZID=UTC:20230204T193000
DTEND;TZID=UTC:20230204T213000
DTSTAMP:20260421T202636
CREATED:20221214T110206Z
LAST-MODIFIED:20230123T130555Z
UID:1300-1675539000-1675546200@ensemblerenard.co.uk
SUMMARY:Helensburgh Music Society
DESCRIPTION:Ensemble Renard present an evening recital at Tower Digital Arts Centre with the Helensburgh Music Society. \nProgramme \nMaurice Ravel arr. Hans Abrahamsen – Le Tombeau de Couperin \nThea Musgrave – Wind Quintet \nFelix Mendelssohn arr. George Strivens – 5 Lieder ohne Worte \n-Interval- \nJames MacMillan – Untold \nCarl Nielsen – Wind Quintet Op. 43 \nValerie Coleman – Red Clay & Mississippi Delta \nThis concert has been made possible by the generous support of the Tunnell Trust
URL:https://ensemblerenard.co.uk/event/helensburgh-music-society/
LOCATION:Tower Digital Arts Centre\, Helensburgh
ATTACH;FMTTYPE=image/png:https://ensemblerenard.co.uk/wp-content/uploads/2022/12/Screenshot-2022-12-14-at-10.57.08.png
END:VEVENT
BEGIN:VEVENT
DTSTART;TZID=UTC:20230203T193000
DTEND;TZID=UTC:20230203T213000
DTSTAMP:20260421T202636
CREATED:20221214T105431Z
LAST-MODIFIED:20230203T092737Z
UID:1295-1675452600-1675459800@ensemblerenard.co.uk
SUMMARY:Melrose Music Society
DESCRIPTION:Ensemble Renard present an evening recital at Melrose Parish Church Hall with the Melrose Music Society. \nProgramme \nMaurice Ravel arr. Hans Abrahamsen – Le Tombeau de Couperin \nThea Musgrave – Wind Quintet \nFelix Mendelssohn arr. George Strivens – 5 Lieder ohne Worte \n-Interval- \nJames MacMillan – Untold \nCarl Nielsen – Wind Quintet Op. 43 \nValerie Coleman – Red Clay & Mississippi Delta \nThis concert has been made possible by the generous support of the Tunnell Trust
URL:https://ensemblerenard.co.uk/event/melrose-music-society/
LOCATION:Melrose Parish Church Hall
ATTACH;FMTTYPE=image/png:https://ensemblerenard.co.uk/wp-content/uploads/2022/12/Screenshot-2022-12-14-at-10.53.57.png
END:VEVENT
BEGIN:VEVENT
DTSTART;TZID=UTC:20230115T150000
DTEND;TZID=UTC:20230115T170000
DTSTAMP:20260421T202636
CREATED:20221006T154106Z
LAST-MODIFIED:20221006T154358Z
UID:1251-1673794800-1673802000@ensemblerenard.co.uk
SUMMARY:Guildford Music Society
DESCRIPTION:Ensemble Renard present an afternoon recital at Guildford United Reformed Church. \nProgramme TBC
URL:https://ensemblerenard.co.uk/event/ensemble-renard-guildford-music-society/
LOCATION:Guildford United Reformed Church\, 83 Portsmouth Road\, Guildford\, Surrey\, GU2 4BS\, United Kingdom
ATTACH;FMTTYPE=image/webp:https://ensemblerenard.co.uk/wp-content/uploads/2022/10/ACC871C9-CE44-413C-9D7C-3C07B0BECD35.webp
END:VEVENT
BEGIN:VEVENT
DTSTART;TZID=UTC:20221211T193000
DTEND;TZID=UTC:20221211T210000
DTSTAMP:20260421T202636
CREATED:20220226T152026Z
LAST-MODIFIED:20221010T125106Z
UID:1077-1670787000-1670792400@ensemblerenard.co.uk
SUMMARY:Brilliant Young International Musicians
DESCRIPTION:Ensemble Renard will be playing in the Brilliant Young International Musicians series at St Peters Church\, Marlborough. \nPérotin arr. Oliver Knussen – Alleluya Nativitas \nJacques Ibert – Trois pièces brèves \nFelix Mendelssohn arr. George Strivens – Selections from Lieder ohne Worte Op. 19 \nMaurice Ravel arr. Hans Abrahamsen – Le Tombeau de Couperin \n-Interval- \nIsabella Leonarda arr. Geoffrey King – Sonata Nona from 12 Sonatas Op. 16 \nCarl Nielsen – Wind Quintet Op. 43 \nValerie Coleman – Red Clay & Mississippi Delta \nEnsemble Renard
URL:https://ensemblerenard.co.uk/event/ensemble-renard-brilliant-young-international-musicians/
LOCATION:St Peters Church\, Marlborough\, W
ATTACH;FMTTYPE=image/png:https://ensemblerenard.co.uk/wp-content/uploads/2022/02/Screenshot-2022-02-26-at-15.38.12.png
END:VEVENT
BEGIN:VEVENT
DTSTART;TZID=UTC:20221208T130000
DTEND;TZID=UTC:20221208T140000
DTSTAMP:20260421T202636
CREATED:20221006T162359Z
LAST-MODIFIED:20221025T103428Z
UID:1262-1670504400-1670508000@ensemblerenard.co.uk
SUMMARY:*POSTPONED* Intermezzo Concert
DESCRIPTION:Ensemble Renard are in discussions with Intermezzo to find a new date for this concert soon. \nMembers of Ensemble Renard collaborate with pianist Mark Rogers to present a lunchtime recital of chamber music for oboe\, bassoon\, and piano. \nRobert Schumann – Three Romances for Oboe and Piano\, Op. 94 \nCamille Saint-Saëns – Bassoon Sonata Op. 168 \nJohannes Brahms – Intermezzo in A major\, Op. 118 No. 2 \nFrancis Poulenc – Trio for Oboe\, Bassoon\, and Piano \nFrancesca Cox\, oboe \nPatrick Bolton\, bassoon \nMark Rogers\, piano
URL:https://ensemblerenard.co.uk/event/intermezzo-concert/
LOCATION:New North London Synagogue\, 80 East End Road\, London\, N3 2SY\, United Kingdom
ATTACH;FMTTYPE=image/jpeg:https://ensemblerenard.co.uk/wp-content/uploads/2022/10/994318EF-00B8-4613-BCA0-9430B34ACDB7.jpeg
END:VEVENT
BEGIN:VEVENT
DTSTART;TZID=UTC:20221113T150000
DTEND;TZID=UTC:20221113T170000
DTSTAMP:20260421T202636
CREATED:20220803T105441Z
LAST-MODIFIED:20221025T103929Z
UID:1233-1668351600-1668358800@ensemblerenard.co.uk
SUMMARY:Iffley Music Society
DESCRIPTION:Ensemble Renard present a concert of wind chamber music from across the ages at the Iffley Music Society in Oxford. \nProgramme \nPérotin arr. Oliver Knussen – Alleluya Nativitas \nFelix Mendelssohn arr. George Strivens – Selections from Lieder ohne Worte Op. 19 \nFrancis Poulenc – Sonata for Clarinet and Bassoon \nMaurice Ravel arr. Hans Abrahamsen – Le Tombeau de Couperin \n-Interval- \nCarl Nielsen – Wind Quintet Op. 43 \nHans Abrahamsen – Wind Quintet No. 2\, “Walden” \nValerie Coleman – Red Clay & Mississippi Delta
URL:https://ensemblerenard.co.uk/event/iffley-music-society/
LOCATION:Church Hall\, Iffley\, 116-122 Church Way\, Oxford\, Oxfordshire\, OX4 4EG\, United Kingdom
ATTACH;FMTTYPE=image/jpeg:https://ensemblerenard.co.uk/wp-content/uploads/2022/01/H25C7747-scaled.jpg
ORGANIZER;CN="Iffley Music Society":MAILTO:iffley.music@gmail.com
END:VEVENT
BEGIN:VEVENT
DTSTART;TZID=UTC:20221009T193000
DTEND;TZID=UTC:20221009T213000
DTSTAMP:20260421T202636
CREATED:20220226T151344Z
LAST-MODIFIED:20221006T154521Z
UID:1069-1665343800-1665351000@ensemblerenard.co.uk
SUMMARY:Dunfermline Arts Guild
DESCRIPTION:Ensemble Renard – Dunfermline Arts Guild \n-supported by the Tunnell Trust \nProgramme \nPérotin arr. Oliver Knussen – Alleluya Nativitas \nThea Musgrave – Wind Quintet \nJudith Weir – Mountain Airs \nMaurice Ravel arr. Hans Abrahamsen – Le Tombeau de Couperin  \nInterval \nJames Macmillan – Untold \nFelix Mendelssohn arr. George Strivens – Selections from Lieder ohne Worte Op. 19 \nGyörgy Ligeti – Six Bagatelles \nValerie Coleman – Red Clay & Mississippi Delta
URL:https://ensemblerenard.co.uk/event/ensemble-renard-dunfermline-arts-guild/
LOCATION:Viewfield Baptist Church\, Dunfermline\, Fife\, KY12 7HZ\, United Kingdom
ATTACH;FMTTYPE=image/jpeg:https://ensemblerenard.co.uk/wp-content/uploads/2022/01/H25C7703-scaled.jpg
END:VEVENT
BEGIN:VEVENT
DTSTART;TZID=UTC:20221008T150000
DTEND;TZID=UTC:20221008T170000
DTSTAMP:20260421T202636
CREATED:20220226T151219Z
LAST-MODIFIED:20221006T154608Z
UID:1065-1665241200-1665248400@ensemblerenard.co.uk
SUMMARY:Oban Music Society
DESCRIPTION:Ensemble Renard – Oban Music Society \n-supported by the Tunnell Trust \nProgramme \nPérotin arr. Oliver Knussen – Alleluya Nativitas \nThea Musgrave – Wind Quintet \nJudith Weir – Mountain Airs \nMaurice Ravel arr. Hans Abrahamsen – Le Tombeau de Couperin  \nInterval \nJames Macmillan – Untold \nFelix Mendelssohn arr. George Strivens – Selections from Lieder ohne Worte Op. 19 \nGyörgy Ligeti – Six Bagatelles \nValerie Coleman – Red Clay & Mississippi Delta
URL:https://ensemblerenard.co.uk/event/ensemble-renard-oban-music-society/
LOCATION:St John’s Cathedral\, Oban\, Scotland
ATTACH;FMTTYPE=image/jpeg:https://ensemblerenard.co.uk/wp-content/uploads/2022/01/H25C7703-scaled.jpg
END:VEVENT
BEGIN:VEVENT
DTSTART;TZID=UTC:20221007T193000
DTEND;TZID=UTC:20221007T213000
DTSTAMP:20260421T202636
CREATED:20220226T151028Z
LAST-MODIFIED:20221006T154638Z
UID:1061-1665171000-1665178200@ensemblerenard.co.uk
SUMMARY:Bute Arts Society
DESCRIPTION:Ensemble Renard – Bute Arts Society \n-supported by the Tunnell Trust \nProgramme \nPérotin arr. Oliver Knussen – Alleluya Nativitas \nSamuel Barber – Summer Music \nAnton Reicha –  Wind Quintet in Eb-major\, Op. 88 No. 2 \nInterval \nMaurice Ravel arr. Hans Abrahamsen – Le Tombeau de Couperin  \nJames Macmillan – Untold \nJean-Michel Damase – Dix-sept variations \nValerie Coleman – Red Clay & Mississippi Delta
URL:https://ensemblerenard.co.uk/event/ensemble-renard-bute-arts-society/
LOCATION:Trinity Church\, Rothesay\, Isle of Bute\, United Kingdom
ATTACH;FMTTYPE=image/jpeg:https://ensemblerenard.co.uk/wp-content/uploads/2022/01/H25C7703-scaled.jpg
END:VEVENT
BEGIN:VEVENT
DTSTART;TZID=UTC:20221002T190000
DTEND;TZID=UTC:20221002T210000
DTSTAMP:20260421T202636
CREATED:20220421T185140Z
LAST-MODIFIED:20220803T083544Z
UID:1170-1664737200-1664744400@ensemblerenard.co.uk
SUMMARY:Hatfield House Chamber Music Festival Finale Concert
DESCRIPTION:Ensemble Renard will be playing with the festival’s resident musicians\, including United Strings of Europe and Guy Johnston and a ‘side-by-side’ choir of  local youth choirs and ORA Singers\, directed by Suzi Digby. \n“A celebration of our 2022 theme\, A World of Music\, with works by Vivaldi through to two new commissions by Joseph Phibbs and Shruthi Rajasekar and culminating in Morten Lauridsen’s gloriously uplifting\, Lux Aeterna.” \n 
URL:https://ensemblerenard.co.uk/event/hatfield-house-chamber-music-festival-2/
LOCATION:The Old Palace\, Hatfield House\, Hatfield\, Herts\, AL9 5NE\, United Kingdom
ATTACH;FMTTYPE=image/png:https://ensemblerenard.co.uk/wp-content/uploads/2022/04/Screenshot-2022-04-21-at-19.46.19.png
END:VEVENT
END:VCALENDAR