BEGIN:VCALENDAR
VERSION:2.0
PRODID:-//Ensemble Renard - ECPv6.15.17//NONSGML v1.0//EN
CALSCALE:GREGORIAN
METHOD:PUBLISH
X-ORIGINAL-URL:https://ensemblerenard.co.uk
X-WR-CALDESC:Events for Ensemble Renard
REFRESH-INTERVAL;VALUE=DURATION:PT1H
X-Robots-Tag:noindex
X-PUBLISHED-TTL:PT1H
BEGIN:VTIMEZONE
TZID:UTC
BEGIN:STANDARD
TZOFFSETFROM:+0000
TZOFFSETTO:+0000
TZNAME:UTC
DTSTART:20250101T000000
END:STANDARD
END:VTIMEZONE
BEGIN:VEVENT
DTSTART;TZID=UTC:20260315T190000
DTEND;TZID=UTC:20260315T190000
DTSTAMP:20260421T154324
CREATED:20251016T110642Z
LAST-MODIFIED:20251016T110642Z
UID:1822-1773601200-1773601200@ensemblerenard.co.uk
SUMMARY:Teesside Music Society
DESCRIPTION:Programme to include works by Barber\, Beach and Nielsen. \nDoors open from 7pm for a 7:15pm start. \n 
URL:https://ensemblerenard.co.uk/event/teesside-music-society/
LOCATION:Stokesley Methodist Church\, High Street\, Middlesbrough\, TS9 5AD
ATTACH;FMTTYPE=image/jpeg:https://ensemblerenard.co.uk/wp-content/uploads/2025/10/TEESSIDE.jpeg
END:VEVENT
END:VCALENDAR